BEGIN:VCALENDAR
VERSION:2.0
PRODID:-//Yin Yang Do Karate Association - ECPv6.15.13//NONSGML v1.0//EN
CALSCALE:GREGORIAN
METHOD:PUBLISH
X-ORIGINAL-URL:http://yinyangdokarate.com
X-WR-CALDESC:Events for Yin Yang Do Karate Association
REFRESH-INTERVAL;VALUE=DURATION:PT1H
X-Robots-Tag:noindex
X-PUBLISHED-TTL:PT1H
BEGIN:VTIMEZONE
TZID:America/Chicago
BEGIN:DAYLIGHT
TZOFFSETFROM:-0600
TZOFFSETTO:-0500
TZNAME:CDT
DTSTART:20200308T080000
END:DAYLIGHT
BEGIN:STANDARD
TZOFFSETFROM:-0500
TZOFFSETTO:-0600
TZNAME:CST
DTSTART:20201101T070000
END:STANDARD
BEGIN:DAYLIGHT
TZOFFSETFROM:-0600
TZOFFSETTO:-0500
TZNAME:CDT
DTSTART:20210314T080000
END:DAYLIGHT
BEGIN:STANDARD
TZOFFSETFROM:-0500
TZOFFSETTO:-0600
TZNAME:CST
DTSTART:20211107T070000
END:STANDARD
BEGIN:DAYLIGHT
TZOFFSETFROM:-0600
TZOFFSETTO:-0500
TZNAME:CDT
DTSTART:20220313T080000
END:DAYLIGHT
BEGIN:STANDARD
TZOFFSETFROM:-0500
TZOFFSETTO:-0600
TZNAME:CST
DTSTART:20221106T070000
END:STANDARD
END:VTIMEZONE
BEGIN:VEVENT
DTSTART;TZID=America/Chicago:20210710T120000
DTEND;TZID=America/Chicago:20210710T190000
DTSTAMP:20260425T223742
CREATED:20210621T012957Z
LAST-MODIFIED:20210621T014051Z
UID:308-1625918400-1625943600@yinyangdokarate.com
SUMMARY:Yin Yang Do Karate Association - Annual Founders Day
DESCRIPTION:Yin Yang Do Karate Association Annual Founders Day Registration is from 12:00 to 12:30\, Seminar starts promptly at 1:00 ending at 4:00. Dinner will be catered and severed at 4:30. The seminar cost is $20.00. That includes seminars and dinner. Family and friends are welcome to dinner for a cost of $5.00 per guest.
URL:http://yinyangdokarate.com/event/yin-yang-do-karate-association-annual-founders-day/
LOCATION:Kemper Center\, Inc.\, 6501 3rd Avenue\, Kenosha\, WI\, 53143\, United States
END:VEVENT
END:VCALENDAR